BEGIN:VCALENDAR
VERSION:2.0
PRODID:icalendar-ruby
CALSCALE:GREGORIAN
METHOD:PUBLISH
BEGIN:VTIMEZONE
TZID:Australia/Perth
BEGIN:STANDARD
DTSTART:20090329T020000
TZOFFSETFROM:+0900
TZOFFSETTO:+0800
TZNAME:AWST
END:STANDARD
END:VTIMEZONE
BEGIN:VEVENT
DTSTAMP:20260422T112024Z
UID:inspection_3009472
DTSTART;TZID=Australia/Perth:20260426T141500
DTEND;TZID=Australia/Perth:20260426T144500
CLASS:PUBLIC
CREATED:20260422T121421
DESCRIPTION: 
LAST-MODIFIED:20260422T121421
LOCATION:38 Crabtree Way\, MEDINA WA 6167\, Australia
SUMMARY:38 Crabtree Way\,  Inspection
URL;VALUE=URI:https://www.uhre.com.au/
END:VEVENT
END:VCALENDAR
